BEGIN:VCALENDAR
VERSION:2.0
PRODID:-//hacksw/handcal//NONSGML v1.0//EN
BEGIN:VEVENT
SUMMARY:Match LGETT Equipe 1
UID:b2a441d0-d926-4292-afa8-104d6593c101
DTSTART:20260409T220000Z
DTEND:20260410T220000Z
LOCATION:Localisation   
CATEGORIES:Sportif
STATUS:
URL;VALUE=URI:https://ttascs.sportsregions.fr/evenements/2026/04/10/match-lgett-equipe-1-2442622
END:VEVENT
END:VCALENDAR
