BEGIN:VCALENDAR
VERSION:2.0
PRODID:-//hacksw/handcal//NONSGML v1.0//EN
BEGIN:VEVENT
SUMMARY:Match AGR Equipe 1
UID:3f5475d2-0fa0-4d5d-9a1a-9dfe67f5b26d
DTSTART:20260331T220000Z
DTEND:20260401T220000Z
LOCATION:Localisation   
CATEGORIES:Sportif
STATUS:
URL;VALUE=URI:https://ttascs.sportsregions.fr/evenements/2026/04/01/match-agr-equipe-1-2442614
END:VEVENT
END:VCALENDAR
