BEGIN:VCALENDAR
VERSION:2.0
PRODID:-//hacksw/handcal//NONSGML v1.0//EN
BEGIN:VEVENT
SUMMARY:Match LGETT Equipe 1
UID:06643393-5aa5-4718-bb5f-28a5defa9692
DTSTART:20260319T230000Z
DTEND:20260320T230000Z
LOCATION:Localisation   
CATEGORIES:Sportif
STATUS:
URL;VALUE=URI:https://ttascs.sportsregions.fr/evenements/2026/03/20/match-lgett-equipe-1-2442610
END:VEVENT
END:VCALENDAR
