BEGIN:VCALENDAR
VERSION:2.0
PRODID:-//hacksw/handcal//NONSGML v1.0//EN
BEGIN:VEVENT
SUMMARY:Match LGETT Equipe 2
UID:a71056ee-c32b-4c23-9f0c-a6b6a246e98f
DTSTART:20260316T230000Z
DTEND:20260317T230000Z
LOCATION:Localisation   
CATEGORIES:Sportif
STATUS:
URL;VALUE=URI:https://ttascs.sportsregions.fr/evenements/2026/03/17/match-lgett-equipe-2-2442623
END:VEVENT
END:VCALENDAR
